BEGIN:VCALENDAR
CALSCALE:GREGORIAN
X-WR-TIMEZONE;VALUE=TEXT:GMT
PRODID:PEAK Corporation - piCal -
X-WR-CALNAME;VALUE=TEXT:åé-æ°é²
VERSION:2.0
METHOD:PUBLISH
BEGIN:VTIMEZONE
TZID:GMT
BEGIN:STANDARD
DTSTART:19390101T000000
TZOFFSETFROM:+0000
TZOFFSETTO:+0000
TZNAME:GMT
END:STANDARD
END:VTIMEZONE
BEGIN:VEVENT
DTSTART:20111107T010000Z
DTEND:20111107T090000Z
LOCATION:
TRANSP:OPAQUE
SEQUENCE:0
UID:pical060-76eaf5edc038d7151ef688686e708475
DTSTAMP:20111116T021959Z
CATEGORIES:
DESCRIPTION:<span style="color: #000066;">å¯¶æ(è¡å§å§)</span>
SUMMARY:åé-æ°é²
PRIORITY:0
CLASS:PUBLIC
END:VEVENT
END:VCALENDAR
